BEGIN:VCALENDAR
VERSION:2.0
PRODID:-//eventon.com NONSGML v1.0//EN
CALSCALE:GREGORIAN
METHOD:PUBLISH
BEGIN:VEVENT
UID:69e75e68cfb8a
DTSTAMP:20260421T112424Z
DTSTART:20260613T120000Z
DTEND:20260613T180000Z
LOCATION:
SUMMARY:5.Verkehrstag
DESCRIPTION:5.Verkehrstag\nhttps://www.freizeitanlage-plauen.de/events/verk
 ehrstag/
URL:https://www.freizeitanlage-plauen.de/events/verkehrstag/
END:VEVENT
END:VCALENDAR